BEGIN:VCALENDAR
VERSION:2.0
PRODID:-//Brevard Parkinson’s Alliance - ECPv6.15.11//NONSGML v1.0//EN
CALSCALE:GREGORIAN
METHOD:PUBLISH
X-WR-CALNAME:Brevard Parkinson’s Alliance
X-ORIGINAL-URL:https://brevardparkinsons.org
X-WR-CALDESC:Events for Brevard Parkinson’s Alliance
REFRESH-INTERVAL;VALUE=DURATION:PT1H
X-Robots-Tag:noindex
X-PUBLISHED-TTL:PT1H
BEGIN:VTIMEZONE
TZID:America/New_York
BEGIN:DAYLIGHT
TZOFFSETFROM:-0500
TZOFFSETTO:-0400
TZNAME:EDT
DTSTART:20250309T070000
END:DAYLIGHT
BEGIN:STANDARD
TZOFFSETFROM:-0400
TZOFFSETTO:-0500
TZNAME:EST
DTSTART:20251102T060000
END:STANDARD
BEGIN:DAYLIGHT
TZOFFSETFROM:-0500
TZOFFSETTO:-0400
TZNAME:EDT
DTSTART:20260308T070000
END:DAYLIGHT
BEGIN:STANDARD
TZOFFSETFROM:-0400
TZOFFSETTO:-0500
TZNAME:EST
DTSTART:20261101T060000
END:STANDARD
BEGIN:DAYLIGHT
TZOFFSETFROM:-0500
TZOFFSETTO:-0400
TZNAME:EDT
DTSTART:20270314T070000
END:DAYLIGHT
BEGIN:STANDARD
TZOFFSETFROM:-0400
TZOFFSETTO:-0500
TZNAME:EST
DTSTART:20271107T060000
END:STANDARD
END:VTIMEZONE
BEGIN:VEVENT
DTSTART;TZID=America/New_York:20260324T103000
DTEND;TZID=America/New_York:20260324T120000
DTSTAMP:20260423T195155
CREATED:20260305T163558Z
LAST-MODIFIED:20260305T163558Z
UID:912-1774348200-1774353600@brevardparkinsons.org
SUMMARY:Parkinson support- West melbourne
DESCRIPTION:
URL:https://brevardparkinsons.org/event/parkinson-support-west-melbourne/
LOCATION:center for family caregivers\, 3661 S. Babcock St
ORGANIZER;CN="Brevard Parkinsons Alliance":MAILTO:brevardParkinsons22@gmail.com
END:VEVENT
BEGIN:VEVENT
DTSTART;TZID=America/New_York:20260318T130000
DTEND;TZID=America/New_York:20260318T143000
DTSTAMP:20260423T195155
CREATED:20251121T172640Z
LAST-MODIFIED:20260305T164314Z
UID:889-1773838800-1773844200@brevardparkinsons.org
SUMMARY:Parkinson Support Group-Suntree\, Viera
DESCRIPTION:
URL:https://brevardparkinsons.org/event/parkinson-support-group-suntree-viera/
LOCATION:Christ Episcopal Church\, 190 Interlachen Rd\, Melbourne\, FL\, 32935\, United States
ORGANIZER;CN="Brevard Parkinsons Alliance":MAILTO:brevardParkinsons22@gmail.com
END:VEVENT
BEGIN:VEVENT
DTSTART;TZID=America/New_York:20260314T100000
DTEND;TZID=America/New_York:20260314T113000
DTSTAMP:20260423T195155
CREATED:20260313T140036Z
LAST-MODIFIED:20260305T162857Z
UID:738-1773482400-1773487800@brevardparkinsons.org
SUMMARY:Parkinson's Care Partners Group
DESCRIPTION: 
URL:https://brevardparkinsons.org/event/parkinsons-care-partners-group/
LOCATION:Central Brevard Library\, 308 Forrest Ave\, Cocoa\, FL
END:VEVENT
BEGIN:VEVENT
DTSTART;TZID=America/New_York:20260312T130000
DTEND;TZID=America/New_York:20260312T140000
DTSTAMP:20260423T195155
CREATED:20260305T163200Z
LAST-MODIFIED:20260305T163200Z
UID:910-1773320400-1773324000@brevardparkinsons.org
SUMMARY:Care Partner Group
DESCRIPTION:
URL:https://brevardparkinsons.org/event/care-partner-group/
LOCATION:Sonata East Viera\, 4206 Breslay Dr\, Melbourne\, FL\, 32940
END:VEVENT
BEGIN:VEVENT
DTSTART;TZID=America/New_York:20260310T111500
DTEND;TZID=America/New_York:20260310T123000
DTSTAMP:20260423T195155
CREATED:20250303T171752Z
LAST-MODIFIED:20260305T162623Z
UID:777-1773141300-1773145800@brevardparkinsons.org
SUMMARY:Titusville Parkinsons Support Group
DESCRIPTION:
URL:https://brevardparkinsons.org/event/titusville-parkinsons-support-group/
LOCATION:Parrish Health and Wellness Center\, 2210 Cheney Hwy\, Titusville\, Fl
ORGANIZER;CN="Brevard Parkinsons Alliance":MAILTO:brevardParkinsons22@gmail.com
END:VEVENT
BEGIN:VEVENT
DTSTART;TZID=America/New_York:20260309T140000
DTEND;TZID=America/New_York:20260309T160000
DTSTAMP:20260423T195155
CREATED:20241114T152102Z
LAST-MODIFIED:20260305T162731Z
UID:734-1773064800-1773072000@brevardparkinsons.org
SUMMARY:Parkinson's Support Group of Central Brevard
DESCRIPTION: 
URL:https://brevardparkinsons.org/event/parkinsons-support-group-of-central-brevard/
LOCATION:Central Brevard Library\, 308 Forrest Ave\, Cocoa\, FL
END:VEVENT
END:VCALENDAR